BEGIN:VCALENDAR
VERSION:2.0
PRODID:-//EEN2EIC - ECPv6.15.20//NONSGML v1.0//EN
CALSCALE:GREGORIAN
METHOD:PUBLISH
X-WR-CALNAME:EEN2EIC
X-ORIGINAL-URL:https://een2eic.eu
X-WR-CALDESC:Events for EEN2EIC
REFRESH-INTERVAL;VALUE=DURATION:PT1H
X-Robots-Tag:noindex
X-PUBLISHED-TTL:PT1H
BEGIN:VTIMEZONE
TZID:Europe/Brussels
BEGIN:DAYLIGHT
TZOFFSETFROM:+0100
TZOFFSETTO:+0200
TZNAME:CEST
DTSTART:20220327T010000
END:DAYLIGHT
BEGIN:STANDARD
TZOFFSETFROM:+0200
TZOFFSETTO:+0100
TZNAME:CET
DTSTART:20221030T010000
END:STANDARD
BEGIN:DAYLIGHT
TZOFFSETFROM:+0100
TZOFFSETTO:+0200
TZNAME:CEST
DTSTART:20230326T010000
END:DAYLIGHT
BEGIN:STANDARD
TZOFFSETFROM:+0200
TZOFFSETTO:+0100
TZNAME:CET
DTSTART:20231029T010000
END:STANDARD
BEGIN:DAYLIGHT
TZOFFSETFROM:+0100
TZOFFSETTO:+0200
TZNAME:CEST
DTSTART:20240331T010000
END:DAYLIGHT
BEGIN:STANDARD
TZOFFSETFROM:+0200
TZOFFSETTO:+0100
TZNAME:CET
DTSTART:20241027T010000
END:STANDARD
BEGIN:DAYLIGHT
TZOFFSETFROM:+0100
TZOFFSETTO:+0200
TZNAME:CEST
DTSTART:20250330T010000
END:DAYLIGHT
BEGIN:STANDARD
TZOFFSETFROM:+0200
TZOFFSETTO:+0100
TZNAME:CET
DTSTART:20251026T010000
END:STANDARD
BEGIN:DAYLIGHT
TZOFFSETFROM:+0100
TZOFFSETTO:+0200
TZNAME:CEST
DTSTART:20260329T010000
END:DAYLIGHT
BEGIN:STANDARD
TZOFFSETFROM:+0200
TZOFFSETTO:+0100
TZNAME:CET
DTSTART:20261025T010000
END:STANDARD
END:VTIMEZONE
BEGIN:VEVENT
DTSTART;TZID=Europe/Brussels:20251204T100000
DTEND;TZID=Europe/Brussels:20251204T110000
DTSTAMP:20260423T144458
CREATED:20251112T152714Z
LAST-MODIFIED:20251112T152714Z
UID:1858-1764842400-1764846000@een2eic.eu
SUMMARY:EEN2EIC launches the new Investment Readiness Toolkit - Info Session – 4 December 2025
DESCRIPTION:A new set of tools to help EEN advisors support innovative SMEs in becoming investment ready.\nThe EEN2EIC project is proud to announce the launch of the Investment Readiness Toolkit\, a harmonised set of practical tools designed to help Enterprise Europe Network (EEN) advisors guide innovative SMEs and start-ups along their investment journey.\nThe Toolkit brings together key templates\, checklists\, and best practices from across the EEN Network\, and introduces the Investment Readiness Scorecard – a digital diagnostic tool designed and developed by José Vilar\, Chair of the EEN Thematic Group Start-up and Scale-up.\nThe Scorecard helps companies assess their level of investment readiness and identify tailored next steps for improvement.\nTo present the Toolkit and its features\, EEN2EIC will host an online Info Session on Thursday\, 4 December 2025 (10:00–11:00 CET).\nThe session will include:\n\n\nA live demonstration of the Investment Readiness Scorecard\n\n\nInformation on the training activities to be organised under EEN2EIC Call 4\n\n\nA Q&A session with participants\n\n\n📅 Date: Thursday\, 4 December 2025\n💻 Format: Online\n🔗 Registration: https://eveeno.com/202687871\n🕙 Time: 10:00 – 11:00 CET
URL:https://een2eic.eu/event/een2eic-launches-the-new-investment-readiness-toolkit-info-session-4-december-2025/
LOCATION:Online
ATTACH;FMTTYPE=image/png:https://een2eic.eu/wp-content/uploads/2025/11/sfondo.png
END:VEVENT
BEGIN:VEVENT
DTSTART;TZID=Europe/Brussels:20251009T100000
DTEND;TZID=Europe/Brussels:20251009T110000
DTSTAMP:20260423T144458
CREATED:20250923T143331Z
LAST-MODIFIED:20250923T143331Z
UID:1696-1760004000-1760007600@een2eic.eu
SUMMARY:EEN2EIC Info Session on 9th October 2025 – Discover the New Calls
DESCRIPTION:EEN2EIC will host an online Info Session on 9 October 2025\, from 10:00 to 11:00 CET. \nThis event will present the three new calls recently launched by EEN2EIC\, designed to strengthen the support offered by the Enterprise Europe Network to innovative SMEs and start-ups across Europe. Participants will learn more about: \nCall 2bis – Local Nodes (WP2): supporting SMEs (including Seal of Excellence holders and women-led companies) in preparing EIC Accelerator proposals. \nCall 3ter – Group Leaders & Local Node (Slovenia): selecting new Group Leaders (F\, H\, J) and one Local Node in Slovenia to boost Seal of Excellence support. \nCall 4 – IRS Investor Readiness Support: engaging EEN partners to deliver Investor Readiness sessions and follow-up using the IRS Toolkit. \nThis is a great opportunity for EEN partners to get first-hand insights\, clarify questions\, and explore how to get involved. \n👉 Register here: https://eveeno.com/202822203
URL:https://een2eic.eu/event/een2eic-info-session-on-9th-october-2025-discover-the-new-calls/
LOCATION:Online
CATEGORIES:Webinar
END:VEVENT
BEGIN:VEVENT
DTSTART;TZID=Europe/Brussels:20250709T143000
DTEND;TZID=Europe/Brussels:20250709T154000
DTSTAMP:20260423T144458
CREATED:20250624T103934Z
LAST-MODIFIED:20250624T103934Z
UID:1609-1752071400-1752075600@een2eic.eu
SUMMARY:EIC Pre-Accelerator Info Day – A New Opportunity for Deep Tech Startups in Widening Countries
DESCRIPTION:An Online Info Day dedicated to the EIC Pre-Accelerator\, an initiative of the EEN2EIC Project\, will take place on: \nDate: 09 July 2025\nTime: 14:30–15:40 CEST\nFormat: Online \nThe event will introduce the pilot EIC Pre-Accelerator call\, a joint initiative of the European Innovation Council (EIC) and the WIDERA programme\, funded under Horizon Europe’s 2025 Work Programme. This new initiative targets early-stage deep-tech startups in Widening Countries\, with the objective of enhancing their business\, investor\, and technology readiness. It also aims to support them in accessing follow-on funding\, including the EIC Accelerator. \nKey topics to be addressed during the session include: \nThe objectives\, concept\, and structure of the EIC Pre-Accelerator \nThe proposal template and application requirements \nThe lump sum funding scheme \nA dedicated Q&A session with participants \nThe Info Day is designed for Enterprise Europe Network (EEN) partners in Widening Countries and their client companies\, particularly those working in the deep-tech sector and looking to strengthen their innovation capacity and access EU funding opportunities. \nFeatured Speakers\nThe session will include presentations from representatives of the European Commission and the European Innovation Council and SMEs Executive Agency (EISMEA)\, who will share insights on the strategic purpose of the Pre-Accelerator: \nEwa Kocińska-Lange\, Policy Officer\, EIC Unit\, DG Research & Innovation\, European Commission \nNancy Herrera Ortiz\, Project Adviser\, EISMEA \nThe agenda will also highlight the cooperation between the Enterprise Europe Network (EEN) and the National Contact Points (NCPs) through the EEN2EIC and Access2EIC initiatives\, which work together to support companies throughout the EIC application process. \nParticipation in this session will be particularly relevant for startups and innovation actors in Widening Countries seeking to understand this new funding instrument and how to engage with it. \nAgenda and Registration link: https://eveeno.com/216421519
URL:https://een2eic.eu/event/eic-pre-accelerator-info-day-a-new-opportunity-for-deep-tech-startups-in-widening-countries/
CATEGORIES:Webinar
END:VEVENT
BEGIN:VEVENT
DTSTART;TZID=Europe/Brussels:20250325T110000
DTEND;TZID=Europe/Brussels:20250325T123000
DTSTAMP:20260423T144458
CREATED:20250313T140027Z
LAST-MODIFIED:20250313T140027Z
UID:1598-1742900400-1742905800@een2eic.eu
SUMMARY:Unlock Funding Opportunities with the EIC Accelerator for Deep-Tech Startups & SMEs
DESCRIPTION:Innovative deep-tech companies looking to scale and secure funding can benefit from the EIC Accelerator\, which offers a unique opportunity for startups\, scale-ups\, and SMEs in the digital sector to access essential financial support. This is a chance to learn more about how the programme can help propel business growth. \nIn collaboration with the Sector Group Digital and Thematic Group Digitalisation of the Enterprise Europe Network (EEN)\, the hashtag#EEN2EIC initiative is hosting an exclusive online training session aimed at guiding companies through the EIC Accelerator funding process. Whether at the early stages or looking to expand\, this session will provide valuable insights into the application process and the support available. \nWhat to Expect from the Session? \nA comprehensive overview of the EIC Accelerator programme and its funding opportunities\nInsights from successful applicants who have secured funding through the programme\nExpert advice from the Enterprise Europe Network to enhance the chances of a successful application\nA special focus on women-led entrepreneurial teams\, promoting diversity and inclusion in the deep-tech ecosystem\nEvent Details:
URL:https://een2eic.eu/event/unlock-funding-opportunities-with-the-eic-accelerator-for-deep-tech-startups-smes/
LOCATION:Online
CATEGORIES:Webinar
END:VEVENT
BEGIN:VEVENT
DTSTART;TZID=Europe/Brussels:20250219T100000
DTEND;TZID=Europe/Brussels:20250219T110000
DTSTAMP:20260423T144458
CREATED:20250212T143742Z
LAST-MODIFIED:20250212T143742Z
UID:1590-1739959200-1739962800@een2eic.eu
SUMMARY:EEN2EIC Project: Online Meeting & Reporting Updates
DESCRIPTION:The EEN2EIC project is currently in its fifth reporting period\, running until February 28. During this time\, EEN members can continue to report support services provided and request vouchers.\nTo assist with reporting activities and address any questions\, EEN2EIC Coordination Team invites all EEN memebers to join an online meeting on February 19 at 10:00 AM (CET). This session will provide an update on the project’s status\, offer guidance on reporting\, and clarify any doubts.\nAdditionally\, details on upcoming training activities organized in collaboration with the EEN Sector Groups will be shared.\nStay engaged and ensure your reports are up to date!
URL:https://een2eic.eu/event/een2eic-project-online-meeting-reporting-updates/
LOCATION:Online
CATEGORIES:Webinar
END:VEVENT
BEGIN:VEVENT
DTSTART;TZID=Europe/Brussels:20241007T110000
DTEND;TZID=Europe/Brussels:20241007T130000
DTSTAMP:20260423T144458
CREATED:20240805T155141Z
LAST-MODIFIED:20240805T155154Z
UID:1557-1728298800-1728306000@een2eic.eu
SUMMARY:Webinar for deeptech companies of the Agrifood sector
DESCRIPTION:The EEN2EIC and the SG Agri-Food are excited to invite EEN Partners and companies with highly innovative deep tech solutions to join our upcoming online training session. This event aims to showcase European funding opportunities available through the EIC Accelerator program. \nDuring the session\, participants will receive a comprehensive overview of the EIC Accelerator program\, learning about its structure\, benefits\, and application process. Additionally\, attendees will gain valuable insights from firsthand experiences shared by successful applicants. These testimonials will provide practical tips and strategies on how to navigate the application process effectively. \nFurthermore\, the Enterprise Europe Network will present how they can support your company in preparing and submitting your application. Their expert guidance can significantly enhance your chances of securing funding. \nDon’t miss this opportunity to discover how the EIC Accelerator can propel your deep tech innovations forward. Join us for an informative and inspiring session designed to equip you with the knowledge and resources needed to succeed. \nEvent Details: \nDate: 07.10.2024\nTime: 11:00-13:00CET\nPlatform: online\, MS-Teams\nWe look forward to your participation and helping your company reach new heights with European funding opportunities \nTarget audience \nWhat For: \nDiscover how to develop and scale up your innovations to create new markets or disrupt existing ones (TRL 5-9). \nWho Can Apply: \nStartups and SMEs\nIndividuals planning to launch an SME\nSmall mid-caps (equity investments only) \nWhat You Get: \nGrants up to €2.5 million\nEquity investments up to €15 million\nExpert coaching and mentoring\nNetworking opportunities with industry leaders\nJoin our free webinar to learn how you can secure significant financial support\, receive expert guidance\, and build valuable industry connections to bring your innovative ideas to market and achieve commercial success. \nRegister now!
URL:https://een2eic.eu/event/webinar-for-deeptech-companies-of-the-agrifood-sector/
CATEGORIES:Webinar
ATTACH;FMTTYPE=image/png:https://een2eic.eu/wp-content/uploads/2024/08/Immagine-2024-08-05-171404.png
END:VEVENT
BEGIN:VEVENT
DTSTART;TZID=Europe/Brussels:20240416T090000
DTEND;TZID=Europe/Brussels:20240416T163000
DTSTAMP:20260423T144458
CREATED:20240409T144817Z
LAST-MODIFIED:20240410T134115Z
UID:1500-1713258000-1713285000@een2eic.eu
SUMMARY:European Innovation Council Baltic Info Day
DESCRIPTION:The Research Council of Lithuania\, Lithunian National Contact Point\, in collaboration with European Innovation Council (EIC) and Lithuanian Innovation Centre organizes the EIC Baltic Info Day dedicated to start-ups\, businesses and higher education insitutions.  \nThe event gives the opportunity to directly meet with representatives\, experts\, and professionals from the EIC. During the event\, participants will learn about the opportunities provided by the EIC (Pathfinder\, Transition\, Accelerator)\, hear the success stories and to get information to fund innovative ideas. \nThe event will take place on the 16th of April at the „Hilton Garden Inn“\, Gedimino ave. 44B\, Vilnius. \nFor detailed informtion\, please visit https://europoshorizontas.lt/join-us-at-the-first-ever-european-innovation-council-baltic-info-day/
URL:https://een2eic.eu/event/european-innovation-council-baltic-info-day/
CATEGORIES:On site
ATTACH;FMTTYPE=image/png:https://een2eic.eu/wp-content/uploads/2024/04/baltic-info-day.png
END:VEVENT
BEGIN:VEVENT
DTSTART;TZID=Europe/Brussels:20240325T140000
DTEND;TZID=Europe/Brussels:20240325T153000
DTSTAMP:20260423T144458
CREATED:20240328T113950Z
LAST-MODIFIED:20240328T113950Z
UID:1496-1711375200-1711380600@een2eic.eu
SUMMARY:Training Course for the EIC Accelerator
DESCRIPTION:EEN2EIC organizes\,in close cooperation with the EEN Thematic Group “Women Entrepreneurship\, an online training session focused on the EIC Accelerator program\, scheduled for the 25.03.2024\, 14:00-15:30 CET.  \nThe event covers the following topics:\n▶ The funding program of #HorizonEurope & the #EICAccelerator\n▶ Deep dive into the application process\n▶ Get inspiration of a successful funded proposal \nWomen-entrepreneurs that are interested in applying for this funding program but also partners of the Enterprise Europe Network that are working with women-led enterprises are warmly invited to the training session. \nMore info here: Link: https://lnkd.in/d2MavpiY
URL:https://een2eic.eu/event/training-course-for-the-eic-accelerator/
ATTACH;FMTTYPE=image/png:https://een2eic.eu/wp-content/uploads/2024/03/cover.png
END:VEVENT
BEGIN:VEVENT
DTSTART;TZID=Europe/Brussels:20231023T160000
DTEND;TZID=Europe/Brussels:20231023T173000
DTSTAMP:20260423T144458
CREATED:20240311T161837Z
LAST-MODIFIED:20240311T162529Z
UID:1377-1698076800-1698082200@een2eic.eu
SUMMARY:EEN2EIC Training on EIC Accelerator
DESCRIPTION:Specialized Training Session tailored for EEN Partners that are supporting innovative companies. \nWhat EEN partners can expect:\n– Overview on the of the EIC funding framework\, specifically the EIC Accelerator\n– Short Application Process: Effective application processes\, ensuring your companies stand out from the crowd.\n– Best-Practice Insights and Hands-on advice: Learn from the experiences of seasoned EEN partners who have successfully supported companies in their innovation journey.\n– Networking & Exchange opportunities in a dedicated Q&A Session
URL:https://een2eic.eu/event/een2eic-training-on-eic-accelerator/
LOCATION:Online
ATTACH;FMTTYPE=image/png:https://een2eic.eu/wp-content/uploads/2024/03/EEN2EIC-ACCELERATOR.png
END:VEVENT
BEGIN:VEVENT
DTSTART;TZID=Europe/Brussels:20230427T120000
DTEND;TZID=Europe/Brussels:20230427T133000
DTSTAMP:20260423T144458
CREATED:20231023T145408Z
LAST-MODIFIED:20240311T162312Z
UID:1350-1682596800-1682602200@een2eic.eu
SUMMARY:EEN2EIC Introductory Day for Consortium Innovation Leader
DESCRIPTION:
URL:https://een2eic.eu/event/een2eic-introductory-day-for-consortium-innovation-leader/
LOCATION:Online
CATEGORIES:Webinar
ATTACH;FMTTYPE=image/png:https://een2eic.eu/wp-content/uploads/2023/10/EEN2EIC-Consortium-Innovation-Leaders.png
END:VEVENT
BEGIN:VEVENT
DTSTART;TZID=Europe/Brussels:20230208T120000
DTEND;TZID=Europe/Brussels:20230208T143000
DTSTAMP:20260423T144458
CREATED:20240311T144424Z
LAST-MODIFIED:20240311T164735Z
UID:1312-1675857600-1675866600@een2eic.eu
SUMMARY:EEN2EIC Info Webinar
DESCRIPTION: 
URL:https://een2eic.eu/event/een2eic-info-webinar-08-02-2023/
LOCATION:Online
CATEGORIES:Webinar
ATTACH;FMTTYPE=image/png:https://een2eic.eu/wp-content/uploads/2024/03/een2eic-information-webinar-1.png
END:VEVENT
END:VCALENDAR